BEGIN:VCALENDAR
VERSION:2.0
PRODID:-//eventon.com NONSGML v1.0//EN
CALSCALE:GREGORIAN
METHOD:PUBLISH
BEGIN:VEVENT
UID:69e5e5a2258e5
DTSTAMP:20260420T083650Z
DTSTART:20221007T080000Z
DTEND:20221007T215000Z
LOCATION:
SUMMARY:Raccontare la Resistenza Umanitaria
DESCRIPTION:ore 10.00 Campo 78\,  in cammino verso Borgo Pacentranoore 15.3
 0&nbsp; auditorium sezione di Archivio di Stato -largo Sant’Antonio\nhttp
 s://chiaroquotidiano.it/events/raccontare-la-resistenza-umanitaria/
URL:https://chiaroquotidiano.it/events/raccontare-la-resistenza-umanitaria/
END:VEVENT
END:VCALENDAR