BEGIN:VCALENDAR
VERSION:2.0
PRODID:-//eventon.com NONSGML v1.0//EN
CALSCALE:GREGORIAN
METHOD:PUBLISH
BEGIN:VEVENT
UID:69e7155c09d33
DTSTAMP:20260421T061244Z
DTSTART:20220816
DTEND:20220817
LOCATION:
SUMMARY:Festa patronale di San Rocco
DESCRIPTION:Santa messa ore 18.30 e serata musicale\nhttps://chiaroquotidia
 no.it/events/festa-patronale-di-san-rocco/
URL:https://chiaroquotidiano.it/events/festa-patronale-di-san-rocco/
END:VEVENT
END:VCALENDAR