BEGIN:VCALENDAR
VERSION:2.0
PRODID:-//eventon.com NONSGML v1.0//EN
CALSCALE:GREGORIAN
METHOD:PUBLISH
BEGIN:VEVENT
UID:69e63e53c1fb5
DTSTAMP:20260420T145515Z
DTSTART:20240826
DTEND:20240827
LOCATION:Palazzo d&#039;Avalos Piazza L.V. Pudente
SUMMARY:The beauty of the Abruzzo coast - Mostra personale di Katia Koudachova
DESCRIPTION:\nhttps://chiaroquotidiano.it/events/the-beauty-of-the-abruzzo-
 coast-mostra-personale-di-katia-koudachova/
URL:https://chiaroquotidiano.it/events/the-beauty-of-the-abruzzo-coast-mostra-personale-di-katia-koudachova/
END:VEVENT
END:VCALENDAR