BEGIN:VCALENDAR
VERSION:2.0
PRODID:-//eventon.com NONSGML v1.0//EN
CALSCALE:GREGORIAN
METHOD:PUBLISH
BEGIN:VEVENT
UID:69e5931d0708b
DTSTAMP:20260420T024445Z
DTSTART:20240714T200000Z
DTEND:20240714T215900Z
LOCATION:Diamante Beach Lungomare Cordella\,  58 - Marina di Vasto
SUMMARY:Diamante Beach: Get Far - Fargetta
DESCRIPTION:Contenuto sponsorizzato\nhttps://chiaroquotidiano.it/events/dia
 mante-beach-get-far-fargetta/
URL:https://chiaroquotidiano.it/events/diamante-beach-get-far-fargetta/
END:VEVENT
END:VCALENDAR